BEGIN:VCALENDAR
VERSION:2.0
PRODID:-//Tshm Versoix - ECPv6.15.15//NONSGML v1.0//EN
CALSCALE:GREGORIAN
METHOD:PUBLISH
X-WR-CALNAME:Tshm Versoix
X-ORIGINAL-URL:https://tshmversoix.ch
X-WR-CALDESC:Évènements pour Tshm Versoix
REFRESH-INTERVAL;VALUE=DURATION:PT1H
X-Robots-Tag:noindex
X-PUBLISHED-TTL:PT1H
BEGIN:VTIMEZONE
TZID:Europe/Zurich
BEGIN:DAYLIGHT
TZOFFSETFROM:+0100
TZOFFSETTO:+0200
TZNAME:CEST
DTSTART:20230326T010000
END:DAYLIGHT
BEGIN:STANDARD
TZOFFSETFROM:+0200
TZOFFSETTO:+0100
TZNAME:CET
DTSTART:20231029T010000
END:STANDARD
BEGIN:DAYLIGHT
TZOFFSETFROM:+0100
TZOFFSETTO:+0200
TZNAME:CEST
DTSTART:20240331T010000
END:DAYLIGHT
BEGIN:STANDARD
TZOFFSETFROM:+0200
TZOFFSETTO:+0100
TZNAME:CET
DTSTART:20241027T010000
END:STANDARD
BEGIN:DAYLIGHT
TZOFFSETFROM:+0100
TZOFFSETTO:+0200
TZNAME:CEST
DTSTART:20250330T010000
END:DAYLIGHT
BEGIN:STANDARD
TZOFFSETFROM:+0200
TZOFFSETTO:+0100
TZNAME:CET
DTSTART:20251026T010000
END:STANDARD
END:VTIMEZONE
BEGIN:VEVENT
DTSTART;TZID=Europe/Zurich:20240614T190000
DTEND;TZID=Europe/Zurich:20240614T233000
DTSTAMP:20260423T075116
CREATED:20240624T082539Z
LAST-MODIFIED:20241022T150947Z
UID:1840-1718391600-1718407800@tshmversoix.ch
SUMMARY:Soirée Euro grillades
DESCRIPTION:
URL:https://tshmversoix.ch/event/soiree-euro-grillades/
LOCATION:chemin Huber Saladin 10 1290 Versoix\, Chemin Huber Saladin 10\, Genève\, Versoix\, 1290\, Suisse
CATEGORIES:Évènements 2024
ATTACH;FMTTYPE=image/png:https://tshmversoix.ch/wp-content/uploads/2024/06/EvenementEx.png
END:VEVENT
BEGIN:VEVENT
DTSTART;TZID=Europe/Zurich:20240621T190000
DTEND;TZID=Europe/Zurich:20240621T233000
DTSTAMP:20260423T075116
CREATED:20240621T152324Z
LAST-MODIFIED:20240729T091527Z
UID:1787-1718996400-1719012600@tshmversoix.ch
SUMMARY:Match Day Grillade
DESCRIPTION:Évènement GRATUIT !!
URL:https://tshmversoix.ch/event/match-day-grillade/
LOCATION:Villa Saladin\, Chemin Huber Saladin 10\, Genève\, Versoix\, 1290\, Suisse
CATEGORIES:Évènements 2024
ATTACH;FMTTYPE=image/png:https://tshmversoix.ch/wp-content/uploads/2024/06/MatchDAy.png
END:VEVENT
END:VCALENDAR