BEGIN:VCALENDAR
VERSION:2.0
PRODID:-//Tshm Versoix - ECPv6.15.15//NONSGML v1.0//EN
CALSCALE:GREGORIAN
METHOD:PUBLISH
X-ORIGINAL-URL:https://tshmversoix.ch
X-WR-CALDESC:Évènements pour Tshm Versoix
REFRESH-INTERVAL;VALUE=DURATION:PT1H
X-Robots-Tag:noindex
X-PUBLISHED-TTL:PT1H
BEGIN:VTIMEZONE
TZID:Europe/Zurich
BEGIN:DAYLIGHT
TZOFFSETFROM:+0100
TZOFFSETTO:+0200
TZNAME:CEST
DTSTART:20240331T010000
END:DAYLIGHT
BEGIN:STANDARD
TZOFFSETFROM:+0200
TZOFFSETTO:+0100
TZNAME:CET
DTSTART:20241027T010000
END:STANDARD
BEGIN:DAYLIGHT
TZOFFSETFROM:+0100
TZOFFSETTO:+0200
TZNAME:CEST
DTSTART:20250330T010000
END:DAYLIGHT
BEGIN:STANDARD
TZOFFSETFROM:+0200
TZOFFSETTO:+0100
TZNAME:CET
DTSTART:20251026T010000
END:STANDARD
BEGIN:DAYLIGHT
TZOFFSETFROM:+0100
TZOFFSETTO:+0200
TZNAME:CEST
DTSTART:20260329T010000
END:DAYLIGHT
BEGIN:STANDARD
TZOFFSETFROM:+0200
TZOFFSETTO:+0100
TZNAME:CET
DTSTART:20261025T010000
END:STANDARD
END:VTIMEZONE
BEGIN:VEVENT
DTSTART;TZID=Europe/Zurich:20250131T183000
DTEND;TZID=Europe/Zurich:20250131T191500
DTSTAMP:20260423T104444
CREATED:20250123T144527Z
LAST-MODIFIED:20250123T144926Z
UID:2141-1738348200-1738350900@tshmversoix.ch
SUMMARY:Association de promotion du vote des 18-25 ans
DESCRIPTION:
URL:https://tshmversoix.ch/event/association-de-promotion-du-vote-des-18-25-ans/
LOCATION:Le New Galaxy\, Chemin des Colombières 4\, Versoix\, 1290\, Switzerland
CATEGORIES:Évènements 2025
END:VEVENT
END:VCALENDAR