BEGIN:VCALENDAR
VERSION:2.0
PRODID:-//Tshm Versoix - ECPv6.15.15//NONSGML v1.0//EN
CALSCALE:GREGORIAN
METHOD:PUBLISH
X-WR-CALNAME:Tshm Versoix
X-ORIGINAL-URL:https://tshmversoix.ch
X-WR-CALDESC:Évènements pour Tshm Versoix
REFRESH-INTERVAL;VALUE=DURATION:PT1H
X-Robots-Tag:noindex
X-PUBLISHED-TTL:PT1H
BEGIN:VTIMEZONE
TZID:Europe/Zurich
BEGIN:DAYLIGHT
TZOFFSETFROM:+0100
TZOFFSETTO:+0200
TZNAME:CEST
DTSTART:20240331T010000
END:DAYLIGHT
BEGIN:STANDARD
TZOFFSETFROM:+0200
TZOFFSETTO:+0100
TZNAME:CET
DTSTART:20241027T010000
END:STANDARD
BEGIN:DAYLIGHT
TZOFFSETFROM:+0100
TZOFFSETTO:+0200
TZNAME:CEST
DTSTART:20250330T010000
END:DAYLIGHT
BEGIN:STANDARD
TZOFFSETFROM:+0200
TZOFFSETTO:+0100
TZNAME:CET
DTSTART:20251026T010000
END:STANDARD
BEGIN:DAYLIGHT
TZOFFSETFROM:+0100
TZOFFSETTO:+0200
TZNAME:CEST
DTSTART:20260329T010000
END:DAYLIGHT
BEGIN:STANDARD
TZOFFSETFROM:+0200
TZOFFSETTO:+0100
TZNAME:CET
DTSTART:20261025T010000
END:STANDARD
END:VTIMEZONE
BEGIN:VEVENT
DTSTART;TZID=Europe/Zurich:20250203T183000
DTEND;TZID=Europe/Zurich:20250203T191500
DTSTAMP:20260421T185903
CREATED:20250123T145726Z
LAST-MODIFIED:20250123T145914Z
UID:2148-1738607400-1738610100@tshmversoix.ch
SUMMARY:Association de promotion du vote des 18-25 ans
DESCRIPTION:
URL:https://tshmversoix.ch/event/association-de-promotion-du-vote-des-18-25-ans-2/
LOCATION:Maison du Charron\, Rue des Moulins 6\, Versoix\, 1290
CATEGORIES:Évènements 2025
END:VEVENT
BEGIN:VEVENT
DTSTART;TZID=Europe/Zurich:20250213T193000
DTEND;TZID=Europe/Zurich:20250213T203000
DTSTAMP:20260421T185903
CREATED:20250131T203156Z
LAST-MODIFIED:20250131T203159Z
UID:2156-1739475000-1739478600@tshmversoix.ch
SUMMARY:Lady boxing
DESCRIPTION:
URL:https://tshmversoix.ch/event/lady-boxing/
LOCATION:Salle de gym Bon-Séjour\, Route de Sauverny 4\, Versoix\, 1290\, Switzerland
CATEGORIES:Évènements 2025
END:VEVENT
BEGIN:VEVENT
DTSTART;TZID=Europe/Zurich:20250217T150000
DTEND;TZID=Europe/Zurich:20250217T170000
DTSTAMP:20260421T185903
CREATED:20250214T201406Z
LAST-MODIFIED:20250214T201539Z
UID:2182-1739804400-1739811600@tshmversoix.ch
SUMMARY:Pass'N Clic
DESCRIPTION:
URL:https://tshmversoix.ch/event/passn-clic/
LOCATION:Maison du Charron\, Rue des Moulins 6\, Versoix\, 1290
CATEGORIES:Évènements 2025
END:VEVENT
END:VCALENDAR